BEGIN:VCALENDAR
VERSION:2.0
PRODID:-//Squarespace Inc/Squarespace 6//v6//EN
BEGIN:VEVENT
UID:5b71127521c67c133d15c6c4@squarespace.com
DTSTAMP:20180813T051452Z
DTSTART:20181009T130000Z
DTEND:20181010T220000Z
SUMMARY:Hamilton
END:VEVENT
END:VCALENDAR
