BEGIN:VCALENDAR
VERSION:2.0
PRODID:-//Squarespace Inc/Squarespace 6//v6//EN
BEGIN:VEVENT
UID:5b7117dcf950b71d4a74068a@squarespace.com
DTSTAMP:20180813T053335Z
DTSTART:20181023T140000Z
DTEND:20181024T210000Z
SUMMARY:Dunedin
END:VEVENT
END:VCALENDAR
