BEGIN:VCALENDAR
VERSION:2.0
PRODID:-//Squarespace Inc/Squarespace 6//v6//EN
BEGIN:VEVENT
UID:5b7117231ae6cf931ba82463@squarespace.com
DTSTAMP:20180813T053155Z
DTSTART:20181020T140000Z
DTEND:20181021T210000Z
SUMMARY:Christchurch
END:VEVENT
END:VCALENDAR
