BEGIN:VCALENDAR
VERSION:2.0
PRODID:-//Squarespace Inc/Squarespace 6//v6//EN
BEGIN:VEVENT
UID:5b71165a032be42d140fdc48@squarespace.com
DTSTAMP:20180813T052757Z
DTSTART:20181016T140000Z
DTEND:20181017T093000Z
SUMMARY:Coromandel
END:VEVENT
END:VCALENDAR
