BEGIN:VCALENDAR
VERSION:2.0
PRODID:-//Squarespace Inc/Squarespace 6//v6//EN
BEGIN:VEVENT
UID:5b71158d352f5356c8dd0b79@squarespace.com
DTSTAMP:20180813T052519Z
DTSTART:20181013T150000Z
DTEND:20181014T210000Z
SUMMARY:North Auckland
END:VEVENT
END:VCALENDAR
