BEGIN:VCALENDAR
VERSION:2.0
PRODID:-//Squarespace Inc/Squarespace 6//v6//EN
BEGIN:VEVENT
UID:5b7114e003ce64d11b84f286@squarespace.com
DTSTAMP:20180813T052207Z
DTSTART:20181012T140000Z
DTEND:20181012T210000Z
SUMMARY:West Auckland
END:VEVENT
END:VCALENDAR
