BEGIN:VCALENDAR
VERSION:2.0
PRODID:-//Squarespace Inc/Squarespace 6//v6//EN
BEGIN:VEVENT
UID:5b7113fc032be42d140fcd42@squarespace.com
DTSTAMP:20180813T051912Z
DTSTART:20181011T150000Z
DTEND:20181011T210000Z
SUMMARY:South Auckland
END:VEVENT
END:VCALENDAR
