BEGIN:VCALENDAR
VERSION:2.0
PRODID:-//Squarespace Inc/Squarespace 6//v6//EN
BEGIN:VEVENT
UID:5e50a152cd15995a4e688ad1@squarespace.com
DTSTAMP:20200222T034017Z
DTSTART:20200308T133000Z
DTEND:20200308T150000Z
SUMMARY:Beginners Meditation Session
END:VEVENT
END:VCALENDAR
