BEGIN:VCALENDAR
VERSION:2.0
PRODID:-//Squarespace Inc/Squarespace 6//v6//EN
BEGIN:VEVENT
UID:5e50a394976c87268cd65a89@squarespace.com
DTSTAMP:20200222T034458Z
DTSTART:20200307T143000Z
DTEND:20200307T160000Z
SUMMARY:Intermediate Meditation Session
END:VEVENT
END:VCALENDAR
