BEGIN:VCALENDAR
VERSION:2.0
PRODID:-//Squarespace Inc/Squarespace 6//v6//EN
BEGIN:VEVENT
UID:5e50a1fe643db018c8595253@squarespace.com
DTSTAMP:20200222T034044Z
DTSTART:20200304T000000Z
DTEND:20200304T013000Z
SUMMARY:Beginners Meditation Session
END:VEVENT
END:VCALENDAR
