BEGIN:VCALENDAR
VERSION:2.0
PRODID:-//Squarespace Inc/Squarespace 6//v6//EN
BEGIN:VEVENT
UID:5e50a4c0576c4c1eab4118f2@squarespace.com
DTSTAMP:20200222T034959Z
DTSTART:20200321T230000Z
DTEND:20200322T003000Z
SUMMARY:Intermediate Meditation Session
END:VEVENT
END:VCALENDAR
