BEGIN:VCALENDAR
VERSION:2.0
PRODID:-//Squarespace Inc/Squarespace 6//v6//EN
BEGIN:VEVENT
UID:5e50a47d6dd0756fb8c0e406@squarespace.com
DTSTAMP:20200222T034857Z
DTSTART:20200303T000000Z
DTEND:20200303T013000Z
SUMMARY:Intermediate Meditation Session
END:VEVENT
END:VCALENDAR
