BEGIN:VCALENDAR
VERSION:2.0
PRODID:-//Squarespace Inc/Squarespace 6//v6//EN
BEGIN:VEVENT
UID:5e50a2348ff9f5167f6ef778@squarespace.com
DTSTAMP:20200222T033958Z
DTSTART:20200310T230000Z
DTEND:20200311T003000Z
SUMMARY:Beginners Meditation Session
END:VEVENT
END:VCALENDAR
