BEGIN:VCALENDAR
VERSION:2.0
PRODID:-//Squarespace Inc/Squarespace 6//v6//EN
BEGIN:VEVENT
UID:5e50a0d3c762610ac531e315@squarespace.com
DTSTAMP:20200222T034129Z
DTSTART:20200301T143000Z
DTEND:20200301T160000Z
SUMMARY:Beginners Meditation Session
END:VEVENT
END:VCALENDAR
