BEGIN:VCALENDAR
VERSION:2.0
PRODID:-//Squarespace Inc/Squarespace 6//v6//EN
BEGIN:VEVENT
UID:5e50a33b9fa7880e2a158122@squarespace.com
DTSTAMP:20200222T034404Z
DTSTART:20200229T143000Z
DTEND:20200229T160000Z
SUMMARY:Intermediate Meditation Session
END:VEVENT
END:VCALENDAR
