BEGIN:VCALENDAR
VERSION:2.0
PRODID:-//Squarespace Inc/Squarespace 6//v6//EN
BEGIN:VEVENT
UID:5e50a1bb8ff9f5167f6ee9cf@squarespace.com
DTSTAMP:20200222T034211Z
DTSTART:20200226T000000Z
DTEND:20200226T013000Z
SUMMARY:Beginners Meditation Session
END:VEVENT
END:VCALENDAR
