BEGIN:VCALENDAR
VERSION:2.0
PRODID:-//Squarespace Inc/Squarespace 6//v6//EN
BEGIN:VEVENT
UID:5e50a517292ccf78e80e9245@squarespace.com
DTSTAMP:20200222T035402Z
DTSTART:20200224T150000Z
DTEND:20200224T180000Z
SUMMARY:Losar Celebration 2020
END:VEVENT
END:VCALENDAR
