BEGIN:VCALENDAR
VERSION:2.0
PRODID:-//Squarespace Inc/Squarespace 6//v6//EN
BEGIN:VEVENT
UID:5e50a3d9976c87268cd66394@squarespace.com
DTSTAMP:20200222T034659Z
DTSTART:20200225T000000Z
DTEND:20200225T013000Z
SUMMARY:Intermediate Meditation Session
END:VEVENT
END:VCALENDAR
