BEGIN:VCALENDAR
VERSION:2.0
PRODID:-//Squarespace Inc/Squarespace 6//v6//EN
BEGIN:VEVENT
UID:5e50a03f292ccf78e80decce@squarespace.com
DTSTAMP:20200222T034233Z
DTSTART:20200223T143000Z
DTEND:20200223T160000Z
SUMMARY:Beginners Meditation Session
END:VEVENT
END:VCALENDAR
