BEGIN:VCALENDAR
VERSION:2.0
PRODID:-//Squarespace Inc/Squarespace 6//v6//EN
BEGIN:VEVENT
UID:5df2ffb4eeaf93748a2451eb@squarespace.com
DTSTAMP:20191213T031133Z
DTSTART:20191221T150000Z
DTEND:20191221T170000Z
SUMMARY:Ven. Pong Re Tulku Rinpoche Birthday Celebration
END:VEVENT
END:VCALENDAR
