BEGIN:VCALENDAR
VERSION:2.0
PRODID:-//Squarespace Inc/Squarespace 6//v6//EN
BEGIN:VEVENT
UID:5b4eabd170a6adcde159018a@squarespace.com
DTSTAMP:20180722T002543Z
DTSTART:20180810T220000Z
DTEND:20180826T200000Z
SUMMARY:August Ngondro Retreat
END:VEVENT
END:VCALENDAR
